View In:
ArcGIS JavaScript
ArcGIS Online Map Viewer
ArcGIS Earth
ArcMap
ArcGIS Pro
View Footprint In:
ArcGIS Online Map Viewer
Service Description: Sec. 102-202. - Truck routes established.
(a) Designated truck routes. All state-maintained roadways are hereby designated as truck routes, unless signed otherwise. Truck traffic on city-maintained roadways is prohibited, unless signed otherwise. (b) Prohibition. The operation of any truck, semi-trailer or road tractor on any street within the city other than those streets or highways specifically designated in subsection (a) of this section is expressly prohibited as against the public health and safety, and declared to be unlawful. (c) Exceptions. The prohibition set forth in this section does not apply to: (1) The operation of trucks, semi-trailers and road tractors traveling on streets other than designated truck routes strictly for the purposes of pickup or delivery to specific locations, or to obtain service, repairs, lodging or fuel in the normal course of business, when there is no other alternate designated truck route of access to such location requiring a stop within the city provided that all vehicles departing from an established truck route under one of the stated exceptions shall immediately thereafter return to a designated truck route by the most direct means practical; (2) Recreational vehicles and personal trailers. As used in this ordinance recreational vehicles means a vehicular portable structure designed for a temporary or short-term occupancy for travel, recreational or vacation uses, including vacation travel trailers, converted buses, tent trailers or similar devices used for temporary portable housing. As used in this section a personal trailer means a wheeled device hauled by a personal motor vehicle upon a road or highway for other than commercial purposes, including a horse trailer, dog trailer, car trailer, motorcycle trailer, boat trailer, lawn equipment trailer, gooseneck trailer, and any other trailer designed or used to carry animals, boats, large items, or motor-driven means of transportation; (3) Street construction, maintenance and repair vehicles engaged in the construction, maintenance, or repair of city streets; (4) Authorized emergency vehicles responding to emergency calls; (5) Vehicles used or operated by the city performing city business, including transit uses, or (6) Vehicles used by a city franchisee for the franchisee's approved activities. (d) Affirmative defense. It is an affirmative defense to prosecution for an offense under this section that the defendant was operating the motor vehicle for a purpose specified in subsection (c) hereof. (e) Signs. The traffic safety coordinator shall place and maintain traffic control signs evidencing the prohibition or permission of truck traffic on the portion or portions of roadways set out in subsection (a) of this section, which such signs shall conform to current standards as set out in the Texas Manual on Uniform Traffic Control Devices with regard to shape, size, color, letter size and style, mounting and location.
Map Name: Layers
Legend
All Layers and Tables
Dynamic Legend
Dynamic All Layers
Layers:
Description:
Copyright Text: GIS Division, ESRI, Inc.
Spatial Reference:
102100
(3857)
Single Fused Map Cache: true
Tile Info:
- Height: 256
- Width: 256
- DPI: 96
-
Levels of Detail: 24
-
Level ID: 1
[ Start Tile, End Tile ]
- Resolution: 78271.5169639999
- Scale: 2.95828763795777E8
-
Level ID: 2
[ Start Tile, End Tile ]
- Resolution: 39135.7584820001
- Scale: 1.47914381897889E8
-
Level ID: 3
[ Start Tile, End Tile ]
- Resolution: 19567.8792409999
- Scale: 7.3957190948944E7
-
Level ID: 4
[ Start Tile, End Tile ]
- Resolution: 9783.93962049996
- Scale: 3.6978595474472E7
-
Level ID: 5
[ Start Tile, End Tile ]
- Resolution: 4891.96981024998
- Scale: 1.8489297737236E7
- Format: PNG
- Compression Quality: 0.0
- Origin: X: -2.0037508342787E7
Y: 2.0037508342787E7
- Spatial Reference: 102100
(3857)
Initial Extent:
XMin: -1.1021582124645846E7
YMin: 3064056.325116511
XMax: -1.081696135950259E7
YMax: 3127463.826371347
Spatial Reference: 102100
(3857)
Full Extent:
XMin: -1.1021582124645846E7
YMin: 2977115.1305765025
XMax: -1.081696135950259E7
YMax: 3127463.826371347
Spatial Reference: 102100
(3857)
Units: esriMeters
Supported Image Format Types: PNG32,PNG24,PNG,JPG,DIB,TIFF,EMF,PS,PDF,GIF,SVG,SVGZ,BMP
Document Info:
Title:
Author:
Comments: Sec. 102-202. - Truck routes established.
(a) Designated truck routes. All state-maintained roadways are hereby designated as truck routes, unless signed otherwise. Truck traffic on city-maintained roadways is prohibited, unless signed otherwise. (b) Prohibition. The operation of any truck, semi-trailer or road tractor on any street within the city other than those streets or highways specifically designated in subsection (a) of this section is expressly prohibited as against the public health and safety, and declared to be unlawful. (c) Exceptions. The prohibition set forth in this section does not apply to: (1) The operation of trucks, semi-trailers and road tractors traveling on streets other than designated truck routes strictly for the purposes of pickup or delivery to specific locations, or to obtain service, repairs, lodging or fuel in the normal course of business, when there is no other alternate designated truck route of access to such location requiring a stop within the city provided that all vehicles departing from an established truck route under one of the stated exceptions shall immediately thereafter return to a designated truck route by the most direct means practical; (2) Recreational vehicles and personal trailers. As used in this ordinance recreational vehicles means a vehicular portable structure designed for a temporary or short-term occupancy for travel, recreational or vacation uses, including vacation travel trailers, converted buses, tent trailers or similar devices used for temporary portable housing. As used in this section a personal trailer means a wheeled device hauled by a personal motor vehicle upon a road or highway for other than commercial purposes, including a horse trailer, dog trailer, car trailer, motorcycle trailer, boat trailer, lawn equipment trailer, gooseneck trailer, and any other trailer designed or used to carry animals, boats, large items, or motor-driven means of transportation; (3) Street construction, maintenance and repair vehicles engaged in the construction, maintenance, or repair of city streets; (4) Authorized emergency vehicles responding to emergency calls; (5) Vehicles used or operated by the city performing city business, including transit uses, or (6) Vehicles used by a city franchisee for the franchisee's approved activities. (d) Affirmative defense. It is an affirmative defense to prosecution for an offense under this section that the defendant was operating the motor vehicle for a purpose specified in subsection (c) hereof. (e) Signs. The traffic safety coordinator shall place and maintain traffic control signs evidencing the prohibition or permission of truck traffic on the portion or portions of roadways set out in subsection (a) of this section, which such signs shall conform to current standards as set out in the Texas Manual on Uniform Traffic Control Devices with regard to shape, size, color, letter size and style, mounting and location.
Subject: Designated truck routes
Category:
Keywords: Truck Routes
AntialiasingMode: None
TextAntialiasingMode: Force
Supports Dynamic Layers: true
MaxRecordCount: 1000
MaxImageHeight: 4096
MaxImageWidth: 4096
Supported Query Formats: JSON, geoJSON
Supports Query Data Elements:
Min Scale: 577790.554289
Max Scale: 1128.497176
Min LOD: 10
Max LOD: 19
Supports Datum Transformation: true
Child Resources:
Info
Dynamic Layer
Supported Operations:
Export Map
Identify
QueryLegends
QueryDomains
Find
Return Updates