View In:
ArcGIS JavaScript
ArcGIS Online Map Viewer
ArcGIS Earth
ArcMap
ArcGIS Pro
View Footprint In:
ArcGIS Online Map Viewer
Service Description: Map provides information about Hidalgo County Irrigation District's Boundaries, Structures and Pipe Line locations intersecting various nearby cities: City of McAllen, Edinburg, Mission and Pharr, Texas. Updates are done by District's Staff.
Map Name: Layers
Legend
All Layers and Tables
Dynamic Legend
Dynamic All Layers
Layers:
Description:
Copyright Text: McAllen GIS Division, Esri, Inc.
Spatial Reference:
102100
(3857)
Single Fused Map Cache: true
Tile Info:
- Height: 256
- Width: 256
- DPI: 96
-
Levels of Detail: 24
-
Level ID: 0
[ Start Tile, End Tile ]
- Resolution: 156543.03392800014
- Scale: 5.91657527591555E8
-
Level ID: 1
[ Start Tile, End Tile ]
- Resolution: 78271.51696399994
- Scale: 2.95828763795777E8
-
Level ID: 2
[ Start Tile, End Tile ]
- Resolution: 39135.75848200009
- Scale: 1.47914381897889E8
-
Level ID: 3
[ Start Tile, End Tile ]
- Resolution: 19567.87924099992
- Scale: 7.3957190948944E7
-
Level ID: 4
[ Start Tile, End Tile ]
- Resolution: 9783.93962049996
- Scale: 3.6978595474472E7
-
Level ID: 5
[ Start Tile, End Tile ]
- Resolution: 4891.96981024998
- Scale: 1.8489297737236E7
- Format: PNG
- Compression Quality: 0.0
- Origin: X: -2.0037508342787E7
Y: 2.0037508342787E7
- Spatial Reference: 102100
(3857)
Initial Extent:
XMin: -1.1032488414233604E7
YMin: 3009999.7927979436
XMax: -1.0809744306377007E7
YMax: 3112981.146145817
Spatial Reference: 102100
(3857)
Full Extent:
XMin: -1.0964114131944982E7
YMin: 2983214.117348262
XMax: -1.08129774576522E7
YMax: 3111420.014930287
Spatial Reference: 102100
(3857)
Units: esriMeters
Supported Image Format Types: PNG32,PNG24,PNG,JPG,DIB,TIFF,EMF,PS,PDF,GIF,SVG,SVGZ,BMP
Document Info:
Title: Public.mxd
Author:
Comments: Map provides information about Hidalgo County Irrigation District's Boundaries, Structures and Pipe Line locations intersecting various nearby cities: City of McAllen, Edinburg, Mission and Pharr, Texas. Updates are done by District's Staff.
Subject: Map provides information about Hidalgo County Irrigation District's Boundaries, Structures and Pipe Line locations intersecting various nearby cities: City of McAllen, Edinburg, Mission and Pharr, Texas. Updates are done by District's Staff.
Category:
Keywords: Private,Utilities,Irrigation
AntialiasingMode: None
TextAntialiasingMode: Force
Supports Dynamic Layers: true
MaxRecordCount: 1000
MaxImageHeight: 4096
MaxImageWidth: 4096
Supported Query Formats: JSON, geoJSON
Supports Query Data Elements:
Min Scale: 577790.554289
Max Scale: 1128.497176
Min LOD: 10
Max LOD: 19
Supports Datum Transformation: true
Child Resources:
Info
Dynamic Layer
Supported Operations:
Export Map
Identify
QueryLegends
QueryDomains
Find
Return Updates