View In:
ArcGIS JavaScript
ArcGIS Online Map Viewer
ArcGIS Earth
ArcMap
ArcGIS Pro
View Footprint In:
ArcGIS Online Map Viewer
Service Description: Property Values, Traffic Counts, Zoning & Utilities
Map Name: Data
Legend
All Layers and Tables
Dynamic Legend
Dynamic All Layers
Layers:
Description:
Copyright Text: McAllen GIS Division, ESRI,Inc.
Spatial Reference:
102100
(3857)
Single Fused Map Cache: true
Tile Info:
- Height: 256
- Width: 256
- DPI: 96
-
Levels of Detail: 24
-
Level ID: 1
[ Start Tile, End Tile ]
- Resolution: 78271.5169639999
- Scale: 2.95828763795777E8
-
Level ID: 2
[ Start Tile, End Tile ]
- Resolution: 39135.7584820001
- Scale: 1.47914381897889E8
-
Level ID: 3
[ Start Tile, End Tile ]
- Resolution: 19567.8792409999
- Scale: 7.3957190948944E7
-
Level ID: 4
[ Start Tile, End Tile ]
- Resolution: 9783.93962049996
- Scale: 3.6978595474472E7
-
Level ID: 5
[ Start Tile, End Tile ]
- Resolution: 4891.96981024998
- Scale: 1.8489297737236E7
- Format: PNG
- Compression Quality: 0.0
- Origin: X: -2.0037508342787E7
Y: 2.0037508342787E7
- Spatial Reference: 102100
(3857)
Initial Extent:
XMin: -1.0959271327990258E7
YMin: 3025257.251936942
XMax: -1.0905869972906346E7
YMax: 3049713.361481607
Spatial Reference: 102100
Full Extent:
XMin: -1.0944693666872205E7
YMin: 3011720.3271313095
XMax: -1.0931040928456023E7
YMax: 3042491.8413155414
Spatial Reference: 102100
Units: esriMeters
Supported Image Format Types: PNG32,PNG24,PNG,JPG,DIB,TIFF,EMF,PS,PDF,GIF,SVG,SVGZ,BMP
Document Info:
Title: POTENTIAL EXPRESSWAY RETAIL
Author:
Comments: Property Values, Traffic Counts, Zoning & Utilities
Subject: Property Values, Traffic Counts, Zoning & Utilities
Category:
Keywords: Tax,Parcels,Traffic,Zoning,Utilities
AntialiasingMode: None
TextAntialiasingMode: Force
Supports Dynamic Layers: true
MaxRecordCount: 1000
MaxImageHeight: 4096
MaxImageWidth: 4096
Supported Query Formats: JSON, geoJSON
Supports Query Data Elements:
Min Scale: 144447.638572
Max Scale: 1128.497176
Min LOD: 12
Max LOD: 19
Supports Datum Transformation: true
Child Resources:
Info
Dynamic Layer
Supported Operations:
Export Map
Identify
QueryLegends
QueryDomains
Find
Return Updates