View In:
ArcGIS JavaScript
ArcGIS Online Map Viewer
ArcGIS Earth
ArcMap
ArcGIS Pro
View Footprint In:
ArcGIS Online Map Viewer
Service Description: The Zoning Map shows the development codes such as zoning and foresight. Each property with our jurisdiction is labeled with its designated development code that’s given by our City of McAllen Planning and Zoning Department. Please visit: City of McAllen Planning Department.
Map Name: Layers
Legend
All Layers and Tables
Dynamic Legend
Dynamic All Layers
Layers:
Description:
Copyright Text: McAllen GIS Division, ESRI,Inc.
Spatial Reference:
102100
(3857)
Single Fused Map Cache: true
Tile Info:
- Height: 256
- Width: 256
- DPI: 96
-
Levels of Detail: 24
-
Level ID: 0
[ Start Tile, End Tile ]
- Resolution: 156543.03392800014
- Scale: 5.91657527591555E8
-
Level ID: 1
[ Start Tile, End Tile ]
- Resolution: 78271.51696399994
- Scale: 2.95828763795777E8
-
Level ID: 2
[ Start Tile, End Tile ]
- Resolution: 39135.75848200009
- Scale: 1.47914381897889E8
-
Level ID: 3
[ Start Tile, End Tile ]
- Resolution: 19567.87924099992
- Scale: 7.3957190948944E7
-
Level ID: 4
[ Start Tile, End Tile ]
- Resolution: 9783.93962049996
- Scale: 3.6978595474472E7
-
Level ID: 5
[ Start Tile, End Tile ]
- Resolution: 4891.96981024998
- Scale: 1.8489297737236E7
- Format: PNG
- Compression Quality: 0.0
- Origin: X: -2.0037508342787E7
Y: 2.0037508342787E7
- Spatial Reference: 102100
(3857)
Initial Extent:
XMin: -1.0976759461999228E7
YMin: 3032715.573662013
XMax: -1.088909028270015E7
YMax: 3075810.1379508805
Spatial Reference: 102100
(3857)
Full Extent:
XMin: -1.0944686341346106E7
YMin: 3011770.4426963567
XMax: -1.0931046514917372E7
YMax: 3051629.534653041
Spatial Reference: 102100
(3857)
Units: esriMeters
Supported Image Format Types: PNG32,PNG24,PNG,JPG,DIB,TIFF,EMF,PS,PDF,GIF,SVG,SVGZ,BMP
Document Info:
Title: Foresight
Author: conadmin
Comments: The Zoning Map shows the development codes such as zoning and foresight. Each property with our jurisdiction is labeled with its designated development code that’s given by our City of McAllen Planning and Zoning Department. Please visit: City of McAllen Planning Department
Subject: The Zoning Map shows the development codes such as zoning and foresight.
Category:
Keywords: Zoning,Development,Foresight
AntialiasingMode: None
TextAntialiasingMode: Force
Supports Dynamic Layers: true
MaxRecordCount: 1000
MaxImageHeight: 4096
MaxImageWidth: 4096
Supported Query Formats: JSON, geoJSON
Supports Query Data Elements:
Min Scale: 144447.638572
Max Scale: 141.062147
Min LOD: 12
Max LOD: 22
Supports Datum Transformation: true
Child Resources:
Info
Dynamic Layer
Supported Operations:
Export Map
Identify
QueryLegends
QueryDomains
Find
Return Updates